BEGIN:VCALENDAR
VERSION:2.0
PRODID:-//Houtstad-IJlst - ECPv6.15.20//NONSGML v1.0//EN
CALSCALE:GREGORIAN
METHOD:PUBLISH
X-ORIGINAL-URL:https://www.houtstad-ijlst.nl
X-WR-CALDESC:Evenementen voor Houtstad-IJlst
REFRESH-INTERVAL;VALUE=DURATION:PT1H
X-Robots-Tag:noindex
X-PUBLISHED-TTL:PT1H
BEGIN:VTIMEZONE
TZID:UTC
BEGIN:STANDARD
TZOFFSETFROM:+0000
TZOFFSETTO:+0000
TZNAME:UTC
DTSTART:20250101T000000
END:STANDARD
END:VTIMEZONE
BEGIN:VEVENT
DTSTART;TZID=UTC:20260418T130000
DTEND;TZID=UTC:20260418T160000
DTSTAMP:20260419T170249
CREATED:20260203T103512Z
LAST-MODIFIED:20260413T143305Z
UID:10000101-1776517200-1776528000@www.houtstad-ijlst.nl
SUMMARY:Repaircafé IJlst
DESCRIPTION:Een kapotte stoel? Een botte schaar? Een broodrooster dat niet meer werkt? Een grasmachine\, koffiezetapparaat? \n\n\n\nHet Repair Café is er het hele jaar\, elke 3e zaterdag van de maand met uitzondering van de maanden juli en augustus. \n\n\n\nDe te repareren spullen kun je tussen 13.00 en 16.00 brengen. Misschien wel klaar terwijl u wacht en dat tegen een kleine vergoeding! \n\n\n\nIn onze werkplaatsruimte draait het op die zaterdagmiddagen allemaal om repareren. Tussen 13.00 en 17.00 uur staan de reparateurs – allemaal vrijwilligers – klaar om de bezoekers te helpen bij alle mogelijke reparaties. Ook gereedschap en materialen zijn aanwezig.
URL:https://www.houtstad-ijlst.nl/event/repaircafe-ijlst/2026-04-18/
LOCATION:Museum en Werkplaats Houtstad IJlst\, Sneekerpad 14\, IJlst\, Friesland\, 8651 NE\, Netherlands
CATEGORIES:Repaircafé
ATTACH;FMTTYPE=image/jpeg:https://www.houtstad-ijlst.nl/wp-content/uploads/2025/12/repair-cafe-ijlst-bordje-edited.jpg
END:VEVENT
BEGIN:VEVENT
DTSTART;TZID=UTC:20260418T100000
DTEND;TZID=UTC:20260418T113000
DTSTAMP:20260419T170249
CREATED:20260312T084204Z
LAST-MODIFIED:20260325T120331Z
UID:10000041-1776506400-1776511800@www.houtstad-ijlst.nl
SUMMARY:Amnesty International schrijfochtend
DESCRIPTION:Elke derde zaterdag in de maand\, behalve juli en augustus\, worden er brieven geschreven aan de verantwoordelijke regimes met het verzoek om politieke gevangenen de vrijheid terug te geven.  \n\n\n\nWilt u ook schrijven? Voorbeeldbrieven\, papier\, pennen en de koffie staan klaar!
URL:https://www.houtstad-ijlst.nl/event/amnesty-international-schrijfochtend/2026-04-18/
LOCATION:Museum en Werkplaats Houtstad IJlst\, Sneekerpad 14\, IJlst\, Friesland\, 8651 NE\, Netherlands
ATTACH;FMTTYPE=image/jpeg:https://www.houtstad-ijlst.nl/wp-content/uploads/2025/12/amnesty-T-scaled.jpg
END:VEVENT
BEGIN:VEVENT
DTSTART;TZID=UTC:20260413T200000
DTEND;TZID=UTC:20260413T220000
DTSTAMP:20260419T170249
CREATED:20260325T115001Z
LAST-MODIFIED:20260325T115005Z
UID:10000100-1776110400-1776117600@www.houtstad-ijlst.nl
SUMMARY:De Houtmeesters
DESCRIPTION:Het vierde seizoen van de Houtmeesters van IJlst gaat op maandag 10 november van start. Het recept is vertrouwd\, maar het programma toch steeds anders: in een serie demonstraties in Museum en Werkplaats Houtstad IJlst geven ‘Houtmeesters’ hun geheimen prijs. \n\n\n\nDat was leuk!\n\n\n\nErvaren meubelmakers\, timmermensen en gereedschapkenners leggen uit hoe zij met hout werken. Aan de hand van voorbeelden die je thuis kunt na te doen. \n\n\n\nNet als vorige winter combineren we de demonstraties ook nu weer met bedrijfsbezoeken én gaan we je uitdagen om zelf het gedemonstreerde werkstuk na te maken. De Houtmeesters helpen je daarbij zelfs: je kunt terugkomen en je vragen voorleggen. \n\n\n\nWe puzzelen nog op het programma voor dit jaar. Ruim voor de eerste sessie zullen we de Houtmeesters en hun onderwerpen aankondigen op deze website. \n\n\n\nVoor wie?\n\n\n\nWe organiseren de Houtmeesters voor iedereen die slimmer en beter met hout wil werken. Vaak gaan we daarbij terug naar de kern van het ambacht. Het uitgangspunt is dat we technieken behandelen die iedereen met basisgereedschap thuis kan gebruiken. Ervaring is niet nodig\, interesse en een aandachtig oor is alles wat je nodig hebt. \n\n\n\nTijd: 20:00 uur tot 22:00 uurEntree: €5\,- per avondGroepsgrootte: maximaal 25 mensen per avond \n\n\n\nSnel aanmelden!Het aantal plaatsen is beperkt tot 30. De afgelopen jaren waren we elke avond uitverkocht\, dus meld je vroegtijdig aan via het e-mail adres houtmeesters@houtstad-ijlst.nl
URL:https://www.houtstad-ijlst.nl/event/de-houtmeesters/
LOCATION:Museum en Werkplaats Houtstad IJlst\, Sneekerpad 14\, IJlst\, Friesland\, 8651 NE\, Netherlands
CATEGORIES:De Houtmeesters
ATTACH;FMTTYPE=image/png:https://www.houtstad-ijlst.nl/wp-content/uploads/2023/09/houtmeesters-algemeen-beeld.png
END:VEVENT
BEGIN:VEVENT
DTSTART;TZID=UTC:20260404T100000
DTEND;TZID=UTC:20260404T130000
DTSTAMP:20260419T170249
CREATED:20260304T105043Z
LAST-MODIFIED:20260304T105045Z
UID:10000037-1775296800-1775307600@www.houtstad-ijlst.nl
SUMMARY:Workshop (tuin)gereedschapskistje
DESCRIPTION:Stel je voor: een zonnige ochtend in de tuin\, je pakt je eigen handgemaakte(tuin)gereedschapskistje met snoeischaar\, handschepjes etc.\, zodat je het benodigde materiaal overzichtelijk bij de hand hebt. \n\n\n\nWegens het succes van het vorige seizoen biedt Houtstad deze workshop opnieuw aan. Je gaat\, onder professionele begeleiding\, zelf aan de slag met het maken van het kistje. Bij het maken van dit kistje gebruiken we onder andere gereedschap van Nooitgedagt. Zo maak je niet alleen kennis met houtbewerkingstechnieken\, maar ook met ambachtelijk materiaal. \n\n\n\nWat leer je?* Hout nauwkeurig aftekenen en zagen* Verbinden en monteren* Praktisch én stevig construeren.* Ervaring is niet vereist. \n\n\n\nEen leerzame\, gezellige en praktische workshop\, waarbij je huiswaarts gaat met een prachtig houten kistje. Reserveren via: reserveren@houtstad-ijlst.nl
URL:https://www.houtstad-ijlst.nl/event/workshop-tuingereedschapskistje/
LOCATION:Museum en Werkplaats Houtstad IJlst\, Sneekerpad 14\, IJlst\, Friesland\, 8651 NE\, Netherlands
CATEGORIES:Workshop
ATTACH;FMTTYPE=image/jpeg:https://www.houtstad-ijlst.nl/wp-content/uploads/2025/02/garden-toolbox-workshop-houtstad-ijlst.jpg
END:VEVENT
BEGIN:VEVENT
DTSTART;TZID=UTC:20260329T140000
DTEND;TZID=UTC:20260329T163000
DTSTAMP:20260419T170249
CREATED:20260310T135431Z
LAST-MODIFIED:20260310T135433Z
UID:10000039-1774792800-1774801800@www.houtstad-ijlst.nl
SUMMARY:Zondagmiddagconcert met Loft
DESCRIPTION:Loft laat hout klinken met een divers en luchtig voorjaarsprogramma\, op zondag 29 maart in Museum en Werkplaats Houtstad IJlst. \n\n\n\nMaak kennis met Loft\, een houtblaaskwintet bestaande uit vijf enthousiaste vrouwen die hun liefde voor muziek delen. Zij hebben elkaar zo’n twee jaar geleden gevonden en zijn het rijke repertoire voor houtblaaskwintetten gaan verkennen. \n\n\n\nMet fluit\, hobo\, klarinet\, fagot en hoorn beschikt Loft over een divers palet aan klankkleuren en kan het heel diverse muziekstijlen laten horen. De bezetting: Annalies Woudstra – hobo\, Janine Lenior  – dwarsfluit\, Loes Aten – klarinet\, Minke van den Oever – fagot\, Esther Kooistra – hoorn \n\n\n\nInloop: 14.00 uur\, aanvang 14.30Entree: € 10\,- inclusief koffie/theeReserveren via e-mail: reserveren@houtstad-ijlst.nl
URL:https://www.houtstad-ijlst.nl/event/zondagmiddagconcert-met-loft/
LOCATION:Museum en Werkplaats Houtstad IJlst\, Sneekerpad 14\, IJlst\, Friesland\, 8651 NE\, Netherlands
CATEGORIES:Culturele optredens
ATTACH;FMTTYPE=image/png:https://www.houtstad-ijlst.nl/wp-content/uploads/2026/03/Scherm­afbeelding-2026-03-04-om-11.06.11.png
END:VEVENT
BEGIN:VEVENT
DTSTART;TZID=UTC:20260318T073000
DTEND;TZID=UTC:20260318T210000
DTSTAMP:20260419T170249
CREATED:20260223T165858Z
LAST-MODIFIED:20260224T100714Z
UID:10000035-1773819000-1773867600@www.houtstad-ijlst.nl
SUMMARY:Gemeenteraadsverkiezingen
DESCRIPTION:Breng je stem uit tussen de houtkrullen!\n\n\n\nOp woensdag 18 maart verandert Museum en werkplaats Houtstad IJlst voor één dag in een unieke plek: we zijn dan officieel een stemlokaal voor de gemeenteraadsverkiezingen. \n\n\n\nTussen 07:30 en 21:00 uur ben je van harte welkom om je stem uit te brengen.  \n\n\n\nOmdat we de ruimte volledig beschikbaar stellen voor het stemmen\, is het museum deze dag gesloten voor regulier bezoek. Er worden dan geen rondleidingen gegeven en de exposities zijn niet toegankelijk.  \n\n\n\nZaterdag vanaf 10:00 staan onze deuren weer wagenwijd open voor alle cultuur- en houtliefhebbers. \n\n\n\nTot woensdag bij de stembus!
URL:https://www.houtstad-ijlst.nl/event/gemeenteraadsverkiezingen/
LOCATION:Museum en Werkplaats Houtstad IJlst\, Sneekerpad 14\, IJlst\, Friesland\, 8651 NE\, Netherlands
ATTACH;FMTTYPE=image/png:https://www.houtstad-ijlst.nl/wp-content/uploads/2026/02/stembiljet-icon-blauw.png
END:VEVENT
BEGIN:VEVENT
DTSTART;TZID=UTC:20260316T200000
DTEND;TZID=UTC:20260316T220000
DTSTAMP:20260419T170249
CREATED:20260203T102955Z
LAST-MODIFIED:20260311T164155Z
UID:10000010-1773691200-1773698400@www.houtstad-ijlst.nl
SUMMARY:De Houtmeesters
DESCRIPTION:Het vierde seizoen van de Houtmeesters van IJlst gaat op maandag 10 november van start. Het recept is vertrouwd\, maar het programma toch steeds anders: in een serie demonstraties in Museum en Werkplaats Houtstad IJlst geven ‘Houtmeesters’ hun geheimen prijs. \n\n\n\nDat was leuk!\n\n\n\nErvaren meubelmakers\, timmermensen en gereedschapkenners leggen uit hoe zij met hout werken. Aan de hand van voorbeelden die je thuis kunt na te doen. \n\n\n\nNet als vorige winter combineren we de demonstraties ook nu weer met bedrijfsbezoeken én gaan we je uitdagen om zelf het gedemonstreerde werkstuk na te maken. De Houtmeesters helpen je daarbij zelfs: je kunt terugkomen en je vragen voorleggen. \n\n\n\nWe puzzelen nog op het programma voor dit jaar. Ruim voor de eerste sessie zullen we de Houtmeesters en hun onderwerpen aankondigen op deze website. \n\n\n\nVoor wie?\n\n\n\nWe organiseren de Houtmeesters voor iedereen die slimmer en beter met hout wil werken. Vaak gaan we daarbij terug naar de kern van het ambacht. Het uitgangspunt is dat we technieken behandelen die iedereen met basisgereedschap thuis kan gebruiken. Ervaring is niet nodig\, interesse en een aandachtig oor is alles wat je nodig hebt. \n\n\n\nTijd: 20:00 uur tot 22:00 uurEntree: €5\,- per avondGroepsgrootte: maximaal 25 mensen per avond \n\n\n\nSnel aanmelden!Het aantal plaatsen is beperkt tot 30. De afgelopen jaren waren we elke avond uitverkocht\, dus meld je vroegtijdig aan via het e-mail adres houtmeesters@houtstad-ijlst.nl
URL:https://www.houtstad-ijlst.nl/event/houtmeesters/
LOCATION:Museum en Werkplaats Houtstad IJlst\, Sneekerpad 14\, IJlst\, Friesland\, 8651 NE\, Netherlands
CATEGORIES:De Houtmeesters
ATTACH;FMTTYPE=image/png:https://www.houtstad-ijlst.nl/wp-content/uploads/2023/09/houtmeesters-algemeen-beeld.png
END:VEVENT
BEGIN:VEVENT
DTSTART;TZID=UTC:20260313T200000
DTEND;TZID=UTC:20260313T213000
DTSTAMP:20260419T170249
CREATED:20260223T131802Z
LAST-MODIFIED:20260311T164005Z
UID:10000033-1773432000-1773437400@www.houtstad-ijlst.nl
SUMMARY:Luisteren op Locatie (LOL)
DESCRIPTION:Beleef IJlst presenteertLuisteren op LocatieBijzondere concerten \n\n\n\n3x CONCERT van 30 minuten3x op unieke LOCATIE in IJlst3x ander genre MUZIEK \n\n\n\nWaar3 verschillende locaties in IJlst \n\n\n\nWanneerVrijdag 13 maart 202620.00 uur \n\n\n\nTicketsTickets zijn te koop voor 15 euro \n\n\n\nvoor meer info kijk op Beleef IJlst/LOL \n\n\n\nKaarten te koop via Ticketkantoor \n\n\n\nDEBASICStrings met romantic balladsDEBASIC Strings is onderdeel van DEBASIC pop- & jazzorkest uit Sneek. Meestal spelen ze samen met blazers en een combo als DEBASIC XL. Deze zomer treedt DEBASIC XL voor de tiende keer op bij het Slotconcert van de Sneekweek.Tijdens “Luisteren op Locatie” in IJst vormt DEBASIC Strings een unplugged ensemble met daarin strijkers\, dwarsfluit\, klarinetten\, pianiste Nadine Blaak en de zangeres Anne Visser. Onder leiding van dirigent Theo Brouwer spelen ze het programma “Romantic Ballads”. \n\n\n\nTwa – sânDit duo bestaat uit Jacob Hettinga en Vincent van den Akker. Zij ontmoetten elkaar begin 2025 tijdens een muzikaal samenzijn van vrienden\, waar bleek dat er veel overlappingen waren in hun repertoire. Sindsdien spelen ze af en toe samen\, zoals bijvoorbeeld op het Oranjewoud Fesival 2025.De muzieksmaak is tamelijk breed\, voornamelijk 70-80er jaren Classic Rock\, afgewisseld met Nederlandstalig of wereldrepertoire\, een enkel nummer vertaald in het Fries.Jacob speelt gitaar en zingt\, Vincent ondersteunt op de eensnarige washtubbbass\, en zingt soms ook een stukje mee.Voorop staat het plezier in het spelen\, en dat plezier delen we graag met ons publiek! \n\n\n\nZangeres IsiraZangeres Isira\, met roots in Arnhem en woonachtig in Sneek\, is een veelzijdige Nederlandse zangeres. Ze staat bekend om haar krachtige\, heldere stem en uitgebreide allround repertoire (bekende hits van vroeger en nu\, van intieme ballads tot dansbare nummers). Isira laat zich tijdens het LOL-event begeleiden door Roel op akoestisch gitaar. Isira en Roel nemen het publiek mee in een muzikale reis met als doel een blijvende herinnering achter te laten.
URL:https://www.houtstad-ijlst.nl/event/lol/
LOCATION:Museum en Werkplaats Houtstad IJlst\, Sneekerpad 14\, IJlst\, Friesland\, 8651 NE\, Netherlands
CATEGORIES:Culturele optredens
ATTACH;FMTTYPE=image/png:https://www.houtstad-ijlst.nl/wp-content/uploads/2026/02/Scherm­afbeelding-2026-02-23-om-10.07.02.png
END:VEVENT
BEGIN:VEVENT
DTSTART;TZID=UTC:20260307T100000
DTEND;TZID=UTC:20260307T130000
DTSTAMP:20260419T170249
CREATED:20260220T155510Z
LAST-MODIFIED:20260223T092018Z
UID:10000028-1772877600-1772888400@www.houtstad-ijlst.nl
SUMMARY:Workshop zwaluwstaartverbinding maken
DESCRIPTION:Nooitgedagt… dat één zwaluwstaart zomer maakt! Altijd al eens een zwaluwstaartverbinding willen maken\, maar weet je niet hoe je moet beginnen? Dan is dit dé workshop om de eerste stappen te zetten in dit stukje houtambacht. \n\n\n\nEen zwaluwstaart is niet alleen een oersterke\, maar ook esthetische verbinding. De karakteristieke vorm maakt je project direct bijzonder. Maar hoe zorg je ervoor dat alles klopt? \n\n\n\n\nHoe verdeel je de zwaluwstaarten mooi en evenwichtig?\n\n\n\nWelke hoek gebruik je voor een sterke én elegante verbinding?\n\n\n\nHoe zaag en steek je strak op de lijn?\n\n\n\n\nTijdens deze workshop leer je stap voor stap hoe je een zwaluwstaartverbinding opzet\, aftekent en uitvoert. We besteden aandacht aan nauwkeurig handwerk en de juiste verhoudingen. \n\n\n\nMet hulp van enthousiaste vrijwilligers begeleiden wij je persoonlijk. Geen ervaring? Geen probleem. Geduld\, duidelijke uitleg en plezier in het maken staan centraal. Aan het einde van de dag heb je niet alleen een verbinding gemaakt\, maar ook ervaren hoe mooi ambacht kan zijn. \n\n\n\nDurf jij de uitdaging aan?\n\n\n\nSchrijf je in en ontdek dat één zwaluwstaart misschien wel jouw zomer maakt!De workshop is in de werkplaats van Houtstad IJlst op zaterdag 07 maart van 10:00 tot ca. 13:00. De kosten zijn € 15\,- inclusief gebruik van gereedschap en materiaal. \n\n\n\nEr is plek voor maximaal 6 enthousiastelingen\, reserveer je plek via reserveren@houtstad-ijlst.nl
URL:https://www.houtstad-ijlst.nl/event/workshop-zwaluwstaartverbinding-maken/
LOCATION:Museum en Werkplaats Houtstad IJlst\, Sneekerpad 14\, IJlst\, Friesland\, 8651 NE\, Netherlands
CATEGORIES:Workshop
ATTACH;FMTTYPE=image/jpeg:https://www.houtstad-ijlst.nl/wp-content/uploads/2026/02/verbindingen-zwaluwstaart-edited-768x432-1.jpg
END:VEVENT
BEGIN:VEVENT
DTSTART;TZID=UTC:20260226T130000
DTEND;TZID=UTC:20260228T160000
DTSTAMP:20260419T170249
CREATED:20260220T145336Z
LAST-MODIFIED:20260223T091909Z
UID:10000020-1772110800-1772294400@www.houtstad-ijlst.nl
SUMMARY:Help Pake & Beppe de vakantie door
DESCRIPTION:In de voorjaarsvakantie organiseren we weer knutselactiviteiten voor kinderen. In onze werkplaats kun je aan de slag op donderdag 26\, vrijdag 27 en zaterdag 28 februari. Geschikt voor kinderen vanaf 5 jaar. Reserveer je plek via e-mail: wijbewiersma@live.nl \n\n\n\nOok in andere musea in Friesland\n\n\n\nHelp Pake & Beppe De Vakantie Door 2026 wordt georganiseerd van 24 februari t/m 27 februari. Musea in heel Friesland openen dan hun deuren speciaal voor kinderen. Er worden allerlei leuke activiteiten georganiseerd. En kinderen hebben gratis entree ‘op vertoon’ van een volwassene. Dus niet alleen je pake en beppe mogen mee\, ook je ouders\, oom of tante! Ook voor hen hebben de musea van alles leuks in petto. \n\n\n\nMeer info op museum.frl
URL:https://www.houtstad-ijlst.nl/event/help-pake-beppe-de-vakantie-door/
LOCATION:Museum en Werkplaats Houtstad IJlst\, Sneekerpad 14\, IJlst\, Friesland\, 8651 NE\, Netherlands
CATEGORIES:Workshop
ATTACH;FMTTYPE=image/jpeg:https://www.houtstad-ijlst.nl/wp-content/uploads/2026/02/algemene-pake-en-beppe.jpg
END:VEVENT
END:VCALENDAR